BEGIN:VCALENDAR
VERSION:2.0
BEGIN:VEVENT
PRODID:-//EventsAdmin//EN
UID:c2eb93c6-d680-4a7b-b9ae-398b32b463cb@eventsadmin.com
DTSTAMP:20260421T162821Z
TRANSP:TRANSPARENT
DTSTART:20221219T080000
DTEND:20221220T180000
SUMMARY;ENCODING=QUOTED-PRINTABLE:12ο Εθνικό Συνέδριο της Επιστημονικής Εταιρείας Χρηματοοικονομικής Μηχανικής και Τραπεζικής
LOCATION;ENCODING=QUOTED-PRINTABLE:Πανεπιστημιούπολη Άλσους Αιγάλεω του Πανεπιστημίου Δυτικής Αττικής
DESCRIPTION;ENCODING=QUOTED-PRINTABLE:ΕΠΙΣΚΟΠΗΣΗ=0D=0AΤο 12 ο Εθνικό Συνέδριο της Επιστημονικής Εταιρείας Χρηματοοικονομικής Μηχανικής και Τραπεζικής (ΕΕΧΜΤ) αποτελεί σημαντικό επιστημονικό γεγονός με κύριο σκοπό την το διάλογο και την ανταλλαγή ιδεών σχετικών με τη χρηματοοικονομική μηχανική και την τραπεζική στον Ελληνικό χώρο. Στόχος του Συνεδρίου είναι η παρουσίαση νέων ερευνητικών αποτελεσμάτων καθώς και η διάδοση μεθοδολογιών ανάλυσης και λήψης αποφάσεων στο χώρο της Χρηματοοικονομικής Επιστήμης από τα μέλη της Εταιρείας, αλλά και άλλων ερε
END:VEVENT
END:VCALENDAR
